BEGIN:VCALENDAR
VERSION:2.0
PRODID:-//CERN//INDICO//EN
BEGIN:VEVENT
SUMMARY:Photoelectron Spectroscopy\, CL shifts and spin
DTSTART;VALUE=DATE-TIME:20160412T070000Z
DTEND;VALUE=DATE-TIME:20160412T083000Z
DTSTAMP;VALUE=DATE-TIME:20240319T033207Z
UID:indico-contribution-26-0-129@ictp.it
DESCRIPTION:Speakers: ALBERTO VERDINI (IOM-CNR\, Trieste)\n//indico.ictp.i
 t/event/7594/session/26/contribution/129
LOCATION:ICTP Leonardo Building - Euler Lecture Hall
URL://indico.ictp.it/event/7594/session/26/contribution/129
END:VEVENT
BEGIN:VEVENT
SUMMARY:ARPES
DTSTART;VALUE=DATE-TIME:20160412T090000Z
DTEND;VALUE=DATE-TIME:20160412T103000Z
DTSTAMP;VALUE=DATE-TIME:20240319T033207Z
UID:indico-contribution-26-0-130@ictp.it
DESCRIPTION:Speakers: LUCA PETACCIA (Sincrotrone Trieste)\n//indico.ictp.i
 t/event/7594/session/26/contribution/130
LOCATION:ICTP Leonardo Building - Euler Lecture Hall
URL://indico.ictp.it/event/7594/session/26/contribution/130
END:VEVENT
BEGIN:VEVENT
SUMMARY:Photoelectron Diffraction and holography
DTSTART;VALUE=DATE-TIME:20160412T120000Z
DTEND;VALUE=DATE-TIME:20160412T133000Z
DTSTAMP;VALUE=DATE-TIME:20240319T033207Z
UID:indico-contribution-26-0-131@ictp.it
DESCRIPTION:Speakers: JÜRG OSTERWALDER (University of Zürich\, Switzerla
 nd)\n//indico.ictp.it/event/7594/session/26/contribution/131
LOCATION:ICTP Leonardo Building - Euler Lecture Hall
URL://indico.ictp.it/event/7594/session/26/contribution/131
END:VEVENT
BEGIN:VEVENT
SUMMARY:Hard X-ray photoemission and AP-PES
DTSTART;VALUE=DATE-TIME:20160412T140000Z
DTEND;VALUE=DATE-TIME:20160412T153000Z
DTSTAMP;VALUE=DATE-TIME:20240319T033207Z
UID:indico-contribution-26-0-132@ictp.it
DESCRIPTION:Speakers: JÜRG OSTERWALDER (University of Zürich\, Switzerla
 nd)\n//indico.ictp.it/event/7594/session/26/contribution/132
LOCATION:ICTP Leonardo Building - Euler Lecture Hall
URL://indico.ictp.it/event/7594/session/26/contribution/132
END:VEVENT
BEGIN:VEVENT
SUMMARY:Electronic structure and atomistic computations for the interpreta
 tion of SR experiments
DTSTART;VALUE=DATE-TIME:20160412T153000Z
DTEND;VALUE=DATE-TIME:20160412T163000Z
DTSTAMP;VALUE=DATE-TIME:20240319T033207Z
UID:indico-contribution-26-0-133@ictp.it
DESCRIPTION:Speakers: NADIA BINGGELI (ICTP)\n//indico.ictp.it/event/7594/s
 ession/26/contribution/133
LOCATION:ICTP Leonardo Building - Euler Lecture Hall
URL://indico.ictp.it/event/7594/session/26/contribution/133
END:VEVENT
END:VCALENDAR
