BEGIN:VCALENDAR
VERSION:2.0
PRODID:-//CERN//INDICO//EN
BEGIN:VEVENT
SUMMARY:Wrap-up for the Day 2
DTSTART;VALUE=DATE-TIME:20160331T161500Z
DTEND;VALUE=DATE-TIME:20160331T163500Z
DTSTAMP;VALUE=DATE-TIME:20240319T070857Z
UID:indico-contribution-15@ictp.it
DESCRIPTION:Speakers: RAGHU\, Surya (Advanced Fluidics\, USA)\, BHATT-CHAU
 HAN\, Dipali (IOP\, UK)\n//indico.ictp.it/event/7597/session/1/contributio
 n/15
LOCATION:ICTP AGH (Giambiagi Lecture Hall)
URL://indico.ictp.it/event/7597/session/1/contribution/15
END:VEVENT
END:VCALENDAR
