BEGIN:VCALENDAR
VERSION:2.0
PRODID:-//CERN//INDICO//EN
BEGIN:VEVENT
SUMMARY:Business Model Development
DTSTART;VALUE=DATE-TIME:20160401T120000Z
DTEND;VALUE=DATE-TIME:20160401T130000Z
DTSTAMP;VALUE=DATE-TIME:20240319T072910Z
UID:indico-contribution-19@ictp.it
DESCRIPTION:Speakers: RAGHU\, Surya (Advanced Fluidics\, USA)\n//indico.ic
 tp.it/event/7597/session/2/contribution/19
LOCATION:ICTP AGH (Giambiagi Lecture Hall)
URL://indico.ictp.it/event/7597/session/2/contribution/19
END:VEVENT
END:VCALENDAR
