BEGIN:VCALENDAR
VERSION:2.0
PRODID:-//CERN//INDICO//EN
BEGIN:VEVENT
SUMMARY:Soft-Skills & Presentation Skills
DTSTART;VALUE=DATE-TIME:20160404T084500Z
DTEND;VALUE=DATE-TIME:20160404T094500Z
DTSTAMP;VALUE=DATE-TIME:20240319T074013Z
UID:indico-contribution-24@ictp.it
DESCRIPTION:Speakers: SECHER\, David (University of Cambridge\, UK)\n//ind
 ico.ictp.it/event/7597/session/3/contribution/24
LOCATION:ICTP AGH (Giambiagi Lecture Hall)
URL://indico.ictp.it/event/7597/session/3/contribution/24
END:VEVENT
END:VCALENDAR
