BEGIN:VCALENDAR
VERSION:2.0
PRODID:-//CERN//INDICO//EN
BEGIN:VEVENT
SUMMARY:Gathering the talent pool in the class for developing solutions to
  the problems: Technical skills / Other skills related to business / What 
 are you willing to learn to get the job done? / Example of a good team to 
 execute a solution to a typical problem   ---  Participant-intensive sessi
 on ---
DTSTART;VALUE=DATE-TIME:20160330T141500Z
DTEND;VALUE=DATE-TIME:20160330T160000Z
DTSTAMP;VALUE=DATE-TIME:20240319T081113Z
UID:indico-contribution-6@ictp.it
DESCRIPTION:Speakers: SECHER\, David (University of Cambridge\, UK)\, REYE
 S\, Rosula (Ateneo de Manila University\, Philippines)\, ALL SPEAKERS ()\n
 //indico.ictp.it/event/7597/session/0/contribution/6
LOCATION:ICTP AGH (Giambiagi Lecture Hall)
URL://indico.ictp.it/event/7597/session/0/contribution/6
END:VEVENT
END:VCALENDAR
