BEGIN:VCALENDAR
VERSION:2.0
PRODID:-//CERN//INDICO//EN
BEGIN:VEVENT
SUMMARY:Down-selecting high-impact projects and Resource Mapping and Teami
 ng the talent pool for working on specific ideas  - team formations / Proj
 ect planning and setting up timelines / Group Project Part 1   --- Group A
 ctivity ---
DTSTART;VALUE=DATE-TIME:20160331T070000Z
DTEND;VALUE=DATE-TIME:20160331T083000Z
DTSTAMP;VALUE=DATE-TIME:20240319T065220Z
UID:indico-contribution-8@ictp.it
DESCRIPTION:Speakers: SECHER\, David (University of Cambridge\, UK)\, RAGH
 U\, Surya (Advanced Fluidics\, USA)\, AMADEI\, Bernard (University of Colo
 rado at Boulder\, USA)\n//indico.ictp.it/event/7597/session/1/contribution
 /8
LOCATION:ICTP AGH (Giambiagi Lecture Hall)
URL://indico.ictp.it/event/7597/session/1/contribution/8
END:VEVENT
END:VCALENDAR
