BEGIN:VCALENDAR
VERSION:2.0
PRODID:-//CERN//INDICO//EN
BEGIN:VEVENT
SUMMARY:SESSION 7 - Space Weather Effects  Chairs: N. Jakowski\, A. Coster
DTSTART;VALUE=DATE-TIME:20160701T063000Z
DTEND;VALUE=DATE-TIME:20160701T083000Z
DTSTAMP;VALUE=DATE-TIME:20240317T203205Z
UID:indico-contribution-18@ictp.it
DESCRIPTION:Speakers: \n//indico.ictp.it/event/7599/session/4/contribution
 /18
LOCATION:ICTP LB (Budinich Lecture Hall)
URL://indico.ictp.it/event/7599/session/4/contribution/18
END:VEVENT
END:VCALENDAR
