BEGIN:VCALENDAR
VERSION:2.0
PRODID:-//CERN//INDICO//EN
BEGIN:VEVENT
SUMMARY:SESSION 7 - Space Weather Effects continued
DTSTART;VALUE=DATE-TIME:20160701T085000Z
DTEND;VALUE=DATE-TIME:20160701T105000Z
DTSTAMP;VALUE=DATE-TIME:20240317T205237Z
UID:indico-contribution-19@ictp.it
DESCRIPTION:Speakers: \n//indico.ictp.it/event/7599/session/4/contribution
 /19
LOCATION:ICTP LB (Budinich Lecture Hall)
URL://indico.ictp.it/event/7599/session/4/contribution/19
END:VEVENT
END:VCALENDAR
