BEGIN:VCALENDAR
VERSION:2.0
PRODID:-//CERN//INDICO//EN
BEGIN:VEVENT
SUMMARY:SESSION 2
DTSTART;VALUE=DATE-TIME:20160628T063000Z
DTEND;VALUE=DATE-TIME:20160628T083000Z
DTSTAMP;VALUE=DATE-TIME:20240317T203930Z
UID:indico-contribution-6@ictp.it
DESCRIPTION:Speakers: \nIrregularities and Scintillation Measurements and 
 Effects\nChairs: K. Groves\, E. de Paula\n\n//indico.ictp.it/event/7599/se
 ssion/2/contribution/6
LOCATION:ICTP LB (Budinich Lecture Hall)
URL://indico.ictp.it/event/7599/session/2/contribution/6
END:VEVENT
END:VCALENDAR
