BEGIN:VCALENDAR
VERSION:2.0
PRODID:-//CERN//INDICO//EN
BEGIN:VEVENT
SUMMARY:TEC Calibration Laboratory
DTSTART;VALUE=DATE-TIME:20160622T120000Z
DTEND;VALUE=DATE-TIME:20160622T153000Z
DTSTAMP;VALUE=DATE-TIME:20240318T023951Z
UID:indico-contribution-11@ictp.it
DESCRIPTION:Speakers: \n//indico.ictp.it/event/7600/session/2/contribution
 /11
LOCATION:ICTP AGH
URL://indico.ictp.it/event/7600/session/2/contribution/11
END:VEVENT
END:VCALENDAR
