BEGIN:VCALENDAR
VERSION:2.0
PRODID:-//CERN//INDICO//EN
BEGIN:VEVENT
SUMMARY:Wide-area Networks for Ionospheric Research
DTSTART;VALUE=DATE-TIME:20160624T090000Z
DTEND;VALUE=DATE-TIME:20160624T093000Z
DTSTAMP;VALUE=DATE-TIME:20240318T023300Z
UID:indico-contribution-16@ictp.it
DESCRIPTION:Speakers: PRADIPTA\, R. (BC\, USA)\n//indico.ictp.it/event/760
 0/session/4/contribution/16
LOCATION:ICTP AGH (Giambiagi Lecture Hall)
URL://indico.ictp.it/event/7600/session/4/contribution/16
END:VEVENT
END:VCALENDAR
