BEGIN:VCALENDAR
VERSION:2.0
PRODID:-//CERN//INDICO//EN
BEGIN:VEVENT
SUMMARY:Introduction to GNSS
DTSTART;VALUE=DATE-TIME:20160620T123000Z
DTEND;VALUE=DATE-TIME:20160620T133000Z
DTSTAMP;VALUE=DATE-TIME:20240318T021827Z
UID:indico-contribution-2@ictp.it
DESCRIPTION:Speakers: DOHERTY\, P. (BC\, USA)\n//indico.ictp.it/event/7600
 /session/0/contribution/2
LOCATION:ICTP AGH (Giambiagi Lecture Hall)
URL://indico.ictp.it/event/7600/session/0/contribution/2
END:VEVENT
END:VCALENDAR
