BEGIN:VCALENDAR
VERSION:2.0
PRODID:-//CERN//INDICO//EN
BEGIN:VEVENT
SUMMARY:Satellite derived TEC for Ionospheric Research
DTSTART;VALUE=DATE-TIME:20160621T070000Z
DTEND;VALUE=DATE-TIME:20160621T080000Z
DTSTAMP;VALUE=DATE-TIME:20240318T030629Z
UID:indico-contribution-1-0-4@ictp.it
DESCRIPTION:Speakers: RADICELLA\, S. (ICTP)\n//indico.ictp.it/event/7600/s
 ession/1/contribution/4
LOCATION:ICTP AGH (Giambiagi Lecture Hall)
URL://indico.ictp.it/event/7600/session/1/contribution/4
END:VEVENT
BEGIN:VEVENT
SUMMARY:Introduction to Linux and Matlab
DTSTART;VALUE=DATE-TIME:20160621T083000Z
DTEND;VALUE=DATE-TIME:20160621T110000Z
DTSTAMP;VALUE=DATE-TIME:20240318T030629Z
UID:indico-contribution-1-0-5@ictp.it
DESCRIPTION:Speakers: GRASSBERGER\, J. (ICTP)\n//indico.ictp.it/event/7600
 /session/1/contribution/5
LOCATION:ICTP AGH (Giambiagi Lecture Hall)
URL://indico.ictp.it/event/7600/session/1/contribution/5
END:VEVENT
BEGIN:VEVENT
SUMMARY:TEC Calibration Techniques
DTSTART;VALUE=DATE-TIME:20160621T120000Z
DTEND;VALUE=DATE-TIME:20160621T130000Z
DTSTAMP;VALUE=DATE-TIME:20240318T030629Z
UID:indico-contribution-1-0-6@ictp.it
DESCRIPTION:Speakers: AZPILICUETA\, F. (UNLP\, Argentina)\n//indico.ictp.i
 t/event/7600/session/1/contribution/6
LOCATION:ICTP AGH (Giambiagi Lecture Hall)
URL://indico.ictp.it/event/7600/session/1/contribution/6
END:VEVENT
BEGIN:VEVENT
SUMMARY:TEC Calibration Techniques
DTSTART;VALUE=DATE-TIME:20160621T130000Z
DTEND;VALUE=DATE-TIME:20160621T140000Z
DTSTAMP;VALUE=DATE-TIME:20240318T030629Z
UID:indico-contribution-1-0-7@ictp.it
DESCRIPTION:Speakers: SEEMALA\, G.K. (IIG\, India)\n//indico.ictp.it/event
 /7600/session/1/contribution/7
LOCATION:ICTP AGH (Giambiagi Lecture Hall)
URL://indico.ictp.it/event/7600/session/1/contribution/7
END:VEVENT
BEGIN:VEVENT
SUMMARY:TEC Calibration Techniques
DTSTART;VALUE=DATE-TIME:20160621T143000Z
DTEND;VALUE=DATE-TIME:20160621T153000Z
DTSTAMP;VALUE=DATE-TIME:20240318T030629Z
UID:indico-contribution-1-0-8@ictp.it
DESCRIPTION:Speakers: ALAZO-CUARTAS\, K. (ICTP)\n//indico.ictp.it/event/76
 00/session/1/contribution/8
LOCATION:ICTP AGH (Giambiagi Lecture Hall)
URL://indico.ictp.it/event/7600/session/1/contribution/8
END:VEVENT
END:VCALENDAR
