BEGIN:VCALENDAR
VERSION:2.0
PRODID:-//CERN//INDICO//EN
BEGIN:VEVENT
SUMMARY:Intro to Contiki libraries and applications
DTSTART;VALUE=DATE-TIME:20160308T130000Z
DTEND;VALUE=DATE-TIME:20160308T150000Z
DTSTAMP;VALUE=DATE-TIME:20240319T145326Z
UID:indico-contribution-52@ictp.it
DESCRIPTION:Speakers: ANTONIO J. LINAN COLINA (Zolertia\, Spain)\n//indico
 .ictp.it/event/7601/session/12/contribution/52
LOCATION:ICTP Galileo Guest House - Marconi Lab (floor -1)
URL://indico.ictp.it/event/7601/session/12/contribution/52
END:VEVENT
END:VCALENDAR
