BEGIN:VCALENDAR
VERSION:2.0
PRODID:-//CERN//INDICO//EN
BEGIN:VEVENT
SUMMARY:Time to work in workshop projects
DTSTART;VALUE=DATE-TIME:20160311T080000Z
DTEND;VALUE=DATE-TIME:20160311T090000Z
DTSTAMP;VALUE=DATE-TIME:20240319T160521Z
UID:indico-contribution-62@ictp.it
DESCRIPTION:Speakers: \n//indico.ictp.it/event/7601/session/15/contributio
 n/62
LOCATION:ICTP Galileo Guest House - Marconi Lab (floor -1)
URL://indico.ictp.it/event/7601/session/15/contribution/62
END:VEVENT
END:VCALENDAR
