BEGIN:VCALENDAR
VERSION:2.0
PRODID:-//CERN//INDICO//EN
BEGIN:VEVENT
SUMMARY:Demo preparation (slides + demo)
DTSTART;VALUE=DATE-TIME:20160311T093000Z
DTEND;VALUE=DATE-TIME:20160311T113000Z
DTSTAMP;VALUE=DATE-TIME:20240319T162823Z
UID:indico-contribution-63@ictp.it
DESCRIPTION:Speakers: \n//indico.ictp.it/event/7601/session/15/contributio
 n/63
LOCATION:ICTP Galileo Guest House - Marconi Lab (floor -1)
URL://indico.ictp.it/event/7601/session/15/contribution/63
END:VEVENT
END:VCALENDAR
