BEGIN:VCALENDAR
VERSION:2.0
PRODID:-//CERN//INDICO//EN
BEGIN:VEVENT
SUMMARY:ICN and IoT applications
DTSTART;VALUE=DATE-TIME:20160314T093000Z
DTEND;VALUE=DATE-TIME:20160314T103000Z
DTSTAMP;VALUE=DATE-TIME:20240319T150903Z
UID:indico-contribution-67@ictp.it
DESCRIPTION:Speakers: ANDRES ARCIA (Cambridge University\, UK)\n//indico.i
 ctp.it/event/7601/session/16/contribution/67
LOCATION:ICTP Galileo Guest House - Marconi Lab (floor -1)
URL://indico.ictp.it/event/7601/session/16/contribution/67
END:VEVENT
END:VCALENDAR
