BEGIN:VCALENDAR
VERSION:2.0
PRODID:-//CERN//INDICO//EN
BEGIN:VEVENT
SUMMARY:Internet of Animals
DTSTART;VALUE=DATE-TIME:20160315T130000Z
DTEND;VALUE=DATE-TIME:20160315T140000Z
DTSTAMP;VALUE=DATE-TIME:20240319T144150Z
UID:indico-contribution-74@ictp.it
DESCRIPTION:Speakers: STEPHEN HAILES (University College London\, UK)\n//i
 ndico.ictp.it/event/7601/session/17/contribution/74
LOCATION:ICTP Galileo Guest House - Marconi Lab (floor -1)
URL://indico.ictp.it/event/7601/session/17/contribution/74
END:VEVENT
END:VCALENDAR
