BEGIN:VCALENDAR
VERSION:2.0
PRODID:-//CERN//INDICO//EN
BEGIN:VEVENT
SUMMARY:IoT Economics
DTSTART;VALUE=DATE-TIME:20160316T130000Z
DTEND;VALUE=DATE-TIME:20160316T140000Z
DTSTAMP;VALUE=DATE-TIME:20240319T155620Z
UID:indico-contribution-80@ictp.it
DESCRIPTION:Speakers: GIOVANNI REPICI ()\n//indico.ictp.it/event/7601/sess
 ion/18/contribution/80
LOCATION:ICTP Galileo Guest House - Marconi Lab (floor -1)
URL://indico.ictp.it/event/7601/session/18/contribution/80
END:VEVENT
END:VCALENDAR
