BEGIN:VCALENDAR
VERSION:2.0
PRODID:-//CERN//INDICO//EN
BEGIN:VEVENT
SUMMARY:Visit to the SciFabLab of ICTP
DTSTART;VALUE=DATE-TIME:20160316T153000Z
DTEND;VALUE=DATE-TIME:20160316T170000Z
DTSTAMP;VALUE=DATE-TIME:20240319T162210Z
UID:indico-contribution-82@ictp.it
DESCRIPTION:Speakers: \n//indico.ictp.it/event/7601/session/18/contributio
 n/82
LOCATION:ICTP Galileo Guest House - Marconi Lab (floor -1)
URL://indico.ictp.it/event/7601/session/18/contribution/82
END:VEVENT
END:VCALENDAR
