BEGIN:VCALENDAR
VERSION:2.0
PRODID:-//CERN//INDICO//EN
BEGIN:VEVENT
SUMMARY:Dynamical Vegetation Model
DTSTART;VALUE=DATE-TIME:20160524T100000Z
DTEND;VALUE=DATE-TIME:20160524T103000Z
DTSTAMP;VALUE=DATE-TIME:20240318T090818Z
UID:indico-contribution-12@ictp.it
DESCRIPTION:Speakers: CAPORASO\, Luca (CMCC Viterbo)\n//indico.ictp.it/eve
 nt/7613/session/1/contribution/12
LOCATION:ICTP AGH (Kastler Lecture Hall)
URL://indico.ictp.it/event/7613/session/1/contribution/12
END:VEVENT
END:VCALENDAR
