BEGIN:VCALENDAR
VERSION:2.0
PRODID:-//CERN//INDICO//EN
BEGIN:VEVENT
SUMMARY:Atmosphere-ocean interactions
DTSTART;VALUE=DATE-TIME:20160527T070000Z
DTEND;VALUE=DATE-TIME:20160527T073000Z
DTSTAMP;VALUE=DATE-TIME:20240318T124204Z
UID:indico-contribution-28@ictp.it
DESCRIPTION:Speakers: FARNETI\, Riccardo (ICTP)\n//indico.ictp.it/event/76
 13/session/4/contribution/28
LOCATION:ICTP AGH (Kastler Lecture Hall)
URL://indico.ictp.it/event/7613/session/4/contribution/28
END:VEVENT
END:VCALENDAR
