BEGIN:VCALENDAR
VERSION:2.0
PRODID:-//CERN//INDICO//EN
BEGIN:VEVENT
SUMMARY:RegCM4 History/ developments/ future/et...
DTSTART;VALUE=DATE-TIME:20160523T090000Z
DTEND;VALUE=DATE-TIME:20160523T093000Z
DTSTAMP;VALUE=DATE-TIME:20240318T091705Z
UID:indico-contribution-3@ictp.it
DESCRIPTION:Speakers: GIORGI\, Filippo (ICTP)\n//indico.ictp.it/event/7613
 /session/0/contribution/3
LOCATION:ICTP AGH (Kastler Lecture Hall)
URL://indico.ictp.it/event/7613/session/0/contribution/3
END:VEVENT
END:VCALENDAR
