BEGIN:VCALENDAR
VERSION:2.0
PRODID:-//CERN//INDICO//EN
BEGIN:VEVENT
SUMMARY:Project presentations
DTSTART;VALUE=DATE-TIME:20160603T070000Z
DTEND;VALUE=DATE-TIME:20160603T080000Z
DTSTAMP;VALUE=DATE-TIME:20240318T092635Z
UID:indico-contribution-47@ictp.it
DESCRIPTION:Speakers: \n//indico.ictp.it/event/7613/session/9/contribution
 /47
LOCATION:ICTP AGH (Kastler Lecture Hall)
URL://indico.ictp.it/event/7613/session/9/contribution/47
END:VEVENT
END:VCALENDAR
