BEGIN:VCALENDAR
VERSION:2.0
PRODID:-//CERN//INDICO//EN
BEGIN:VEVENT
SUMMARY:Overview of the REQUA project
DTSTART;VALUE=DATE-TIME:20160525T114500Z
DTEND;VALUE=DATE-TIME:20160525T120000Z
DTSTAMP;VALUE=DATE-TIME:20240318T105718Z
UID:indico-contribution-55@ictp.it
DESCRIPTION:Speakers: MELAS\, Dimitris (Un. of Thessaloniki)\n//indico.ict
 p.it/event/7613/session/11/contribution/55
LOCATION:ICTP AGH (Kastler Lecture Hall)
URL://indico.ictp.it/event/7613/session/11/contribution/55
END:VEVENT
END:VCALENDAR
