BEGIN:VCALENDAR
VERSION:2.0
PRODID:-//CERN//INDICO//EN
BEGIN:VEVENT
SUMMARY:Secondary Organic Aerosols and their direct effects in RegCM4
DTSTART;VALUE=DATE-TIME:20160525T123000Z
DTEND;VALUE=DATE-TIME:20160525T124500Z
DTSTAMP;VALUE=DATE-TIME:20240318T124456Z
UID:indico-contribution-58@ictp.it
DESCRIPTION:Speakers: CIARLO\, James (Un. of Malta)\n//indico.ictp.it/even
 t/7613/session/11/contribution/58
LOCATION:ICTP AGH (Kastler Lecture Hall)
URL://indico.ictp.it/event/7613/session/11/contribution/58
END:VEVENT
END:VCALENDAR
