BEGIN:VCALENDAR
VERSION:2.0
PRODID:-//CERN//INDICO//EN
BEGIN:VEVENT
SUMMARY:Lab session
DTSTART;VALUE=DATE-TIME:20160523T120000Z
DTEND;VALUE=DATE-TIME:20160523T150000Z
DTSTAMP;VALUE=DATE-TIME:20240318T112145Z
UID:indico-contribution-6@ictp.it
DESCRIPTION:Speakers: \n//indico.ictp.it/event/7613/session/0/contribution
 /6
LOCATION:ICTP AGH both Informatics Labs
URL://indico.ictp.it/event/7613/session/0/contribution/6
END:VEVENT
END:VCALENDAR
