BEGIN:VCALENDAR
VERSION:2.0
PRODID:-//CERN//INDICO//EN
BEGIN:VEVENT
SUMMARY:Africa
DTSTART;VALUE=DATE-TIME:20160525T070000Z
DTEND;VALUE=DATE-TIME:20160525T073000Z
DTSTAMP;VALUE=DATE-TIME:20240318T101805Z
UID:indico-contribution-2-0-14@ictp.it
DESCRIPTION:Speakers: SYLLA\, Bamba (WASCAL)\n//indico.ictp.it/event/7613/
 session/2/contribution/14
LOCATION:ICTP AGH (Kastler Lecture Hall)
URL://indico.ictp.it/event/7613/session/2/contribution/14
END:VEVENT
BEGIN:VEVENT
SUMMARY:Central America and Mexico CORDEX CAM Studies
DTSTART;VALUE=DATE-TIME:20160525T073000Z
DTEND;VALUE=DATE-TIME:20160525T080000Z
DTSTAMP;VALUE=DATE-TIME:20240318T101805Z
UID:indico-contribution-2-0-15@ictp.it
DESCRIPTION:Speakers: CAVAZOS\, Tereza (CICESE)\n//indico.ictp.it/event/76
 13/session/2/contribution/15
LOCATION:ICTP AGH (Kastler Lecture Hall)
URL://indico.ictp.it/event/7613/session/2/contribution/15
END:VEVENT
BEGIN:VEVENT
SUMMARY:Sensitivity of Tropical Cyclones to Resolution\, Convection Scheme
  and Ocean Flux Parameterization over Eastern Tropical Pacific and Tropica
 l North Atlantic Oceans in RegCM4 Model
DTSTART;VALUE=DATE-TIME:20160525T080000Z
DTEND;VALUE=DATE-TIME:20160525T083000Z
DTSTAMP;VALUE=DATE-TIME:20240318T101805Z
UID:indico-contribution-2-0-16@ictp.it
DESCRIPTION:Speakers: FUENTES FRANCO\, Ramon (ICTP)\n//indico.ictp.it/even
 t/7613/session/2/contribution/16
LOCATION:ICTP AGH (Kastler Lecture Hall)
URL://indico.ictp.it/event/7613/session/2/contribution/16
END:VEVENT
BEGIN:VEVENT
SUMMARY:North America
DTSTART;VALUE=DATE-TIME:20160525T090000Z
DTEND;VALUE=DATE-TIME:20160525T093000Z
DTSTAMP;VALUE=DATE-TIME:20240318T101805Z
UID:indico-contribution-2-0-17@ictp.it
DESCRIPTION:Speakers: BUKOVSKY\, Melissa (NCAR)\n//indico.ictp.it/event/76
 13/session/2/contribution/17
LOCATION:ICTP AGH (Kastler Lecture Hall)
URL://indico.ictp.it/event/7613/session/2/contribution/17
END:VEVENT
BEGIN:VEVENT
SUMMARY:A comparative analysis of the horizontal resolution impacts in sim
 ulated climate over South America
DTSTART;VALUE=DATE-TIME:20160525T093000Z
DTEND;VALUE=DATE-TIME:20160525T100000Z
DTSTAMP;VALUE=DATE-TIME:20240318T101805Z
UID:indico-contribution-2-0-18@ictp.it
DESCRIPTION:Speakers: DA ROCHA PORFIRIO\, Rosmeri (University of Sao Paulo
 )\n//indico.ictp.it/event/7613/session/2/contribution/18
LOCATION:ICTP AGH (Kastler Lecture Hall)
URL://indico.ictp.it/event/7613/session/2/contribution/18
END:VEVENT
BEGIN:VEVENT
SUMMARY:The role of land use change over the Amazon Forest in simulating c
 limatology and extreme hydroclimatic indices
DTSTART;VALUE=DATE-TIME:20160525T100000Z
DTEND;VALUE=DATE-TIME:20160525T103000Z
DTSTAMP;VALUE=DATE-TIME:20240318T101805Z
UID:indico-contribution-2-0-19@ictp.it
DESCRIPTION:Speakers: LLOPART PEREIRA\, Marta (Saõ Paulo State University
 )\n//indico.ictp.it/event/7613/session/2/contribution/19
LOCATION:ICTP AGH (Kastler Lecture Hall)
URL://indico.ictp.it/event/7613/session/2/contribution/19
END:VEVENT
END:VCALENDAR
