BEGIN:VCALENDAR
VERSION:2.0
PRODID:-//CERN//INDICO//EN
BEGIN:VEVENT
SUMMARY:Introduction to aerosol observations and assimilation products
DTSTART;VALUE=DATE-TIME:20160629T084500Z
DTEND;VALUE=DATE-TIME:20160629T103000Z
DTSTAMP;VALUE=DATE-TIME:20240317T190418Z
UID:indico-contribution-10@ictp.it
DESCRIPTION:Speakers: F. SOLMON\, A. TOMPKINS (ICTP\, Trieste\, Italy)\n//
 indico.ictp.it/event/7614/session/2/contribution/10
LOCATION:ICTP First week: AGH (Kastler Lecture Hall) - Second week: former
  SISSA building\, Main Lecture Hall
URL://indico.ictp.it/event/7614/session/2/contribution/10
END:VEVENT
END:VCALENDAR
