BEGIN:VCALENDAR
VERSION:2.0
PRODID:-//CERN//INDICO//EN
BEGIN:VEVENT
SUMMARY:Introduction to the School
DTSTART;VALUE=DATE-TIME:20160627T071500Z
DTEND;VALUE=DATE-TIME:20160627T073000Z
DTSTAMP;VALUE=DATE-TIME:20240317T185926Z
UID:indico-contribution-23@ictp.it
DESCRIPTION:Speakers: SOLMON\, Fabien (ICTP)\n//indico.ictp.it/event/7614/
 session/0/contribution/23
LOCATION:ICTP First week: AGH (Kastler Lecture Hall) - Second week: former
  SISSA building\, Main Lecture Hall
URL://indico.ictp.it/event/7614/session/0/contribution/23
END:VEVENT
END:VCALENDAR
