BEGIN:VCALENDAR
VERSION:2.0
PRODID:-//CERN//INDICO//EN
BEGIN:VEVENT
SUMMARY:Current Weather
DTSTART;VALUE=DATE-TIME:20160701T120000Z
DTEND;VALUE=DATE-TIME:20160701T123000Z
DTSTAMP;VALUE=DATE-TIME:20240317T181510Z
UID:indico-contribution-24@ictp.it
DESCRIPTION:Speakers: TOMPKINS\, A. (ICTP\, Trieste\, Italy)\n//indico.ict
 p.it/event/7614/session/4/contribution/24
LOCATION:ICTP First week: AGH (Kastler Lecture Hall) - Second week: former
  SISSA building\, Main Lecture Hall
URL://indico.ictp.it/event/7614/session/4/contribution/24
END:VEVENT
END:VCALENDAR
