BEGIN:VCALENDAR
VERSION:2.0
PRODID:-//CERN//INDICO//EN
BEGIN:VEVENT
SUMMARY:Modeling of cloud microphysics: from simple concepts to sophistica
 ted parameterizations. Part II: ice microphysics
DTSTART;VALUE=DATE-TIME:20160628T130000Z
DTEND;VALUE=DATE-TIME:20160628T134500Z
DTSTAMP;VALUE=DATE-TIME:20240317T192641Z
UID:indico-contribution-7@ictp.it
DESCRIPTION:Speakers: GRABOWSKI\, W. (NCAR\, Boulder\, USA)\n//indico.ictp
 .it/event/7614/session/1/contribution/7
LOCATION:ICTP First week: AGH (Kastler Lecture Hall) - Second week: former
  SISSA building\, Main Lecture Hall
URL://indico.ictp.it/event/7614/session/1/contribution/7
END:VEVENT
END:VCALENDAR
