BEGIN:VCALENDAR
VERSION:2.0
PRODID:-//CERN//INDICO//EN
BEGIN:VEVENT
SUMMARY:Registration
DTSTART;VALUE=DATE-TIME:20160627T063000Z
DTEND;VALUE=DATE-TIME:20160627T071500Z
DTSTAMP;VALUE=DATE-TIME:20240317T184828Z
UID:indico-contribution-0-0-0@ictp.it
DESCRIPTION:Speakers: \n//indico.ictp.it/event/7614/session/0/contribution
 /0
LOCATION:ICTP Lower Level 1\, Adriatico Guest House
URL://indico.ictp.it/event/7614/session/0/contribution/0
END:VEVENT
BEGIN:VEVENT
SUMMARY:Introduction to the School
DTSTART;VALUE=DATE-TIME:20160627T071500Z
DTEND;VALUE=DATE-TIME:20160627T073000Z
DTSTAMP;VALUE=DATE-TIME:20240317T184828Z
UID:indico-contribution-0-0-23@ictp.it
DESCRIPTION:Speakers: SOLMON\, Fabien (ICTP)\n//indico.ictp.it/event/7614/
 session/0/contribution/23
LOCATION:ICTP First week: AGH (Kastler Lecture Hall) - Second week: former
  SISSA building\, Main Lecture Hall
URL://indico.ictp.it/event/7614/session/0/contribution/23
END:VEVENT
BEGIN:VEVENT
SUMMARY:Warm microphysics\, CCN activation and impacts
DTSTART;VALUE=DATE-TIME:20160627T073000Z
DTEND;VALUE=DATE-TIME:20160627T084500Z
DTSTAMP;VALUE=DATE-TIME:20240317T184828Z
UID:indico-contribution-0-0-1@ictp.it
DESCRIPTION:Speakers: POSSNER\, A. (ETH Zurich\, Switzerland)\n//indico.ic
 tp.it/event/7614/session/0/contribution/1
LOCATION:ICTP First week: AGH (Kastler Lecture Hall) - Second week: former
  SISSA building\, Main Lecture Hall
URL://indico.ictp.it/event/7614/session/0/contribution/1
END:VEVENT
BEGIN:VEVENT
SUMMARY:Aerosol processes\, properties\, variability and modelling
DTSTART;VALUE=DATE-TIME:20160627T091500Z
DTEND;VALUE=DATE-TIME:20160627T103000Z
DTSTAMP;VALUE=DATE-TIME:20240317T184828Z
UID:indico-contribution-0-0-2@ictp.it
DESCRIPTION:Speakers: SOLMON\, F. (ICTP\, Trieste\, Italy)\n//indico.ictp.
 it/event/7614/session/0/contribution/2
LOCATION:ICTP First week: AGH (Kastler Lecture Hall) - Second week: former
  SISSA building\, Main Lecture Hall
URL://indico.ictp.it/event/7614/session/0/contribution/2
END:VEVENT
BEGIN:VEVENT
SUMMARY:Cold microphysics\, ice nucleation and its effects on mixed-phase 
 and ice clouds
DTSTART;VALUE=DATE-TIME:20160627T120000Z
DTEND;VALUE=DATE-TIME:20160627T131500Z
DTSTAMP;VALUE=DATE-TIME:20240317T184828Z
UID:indico-contribution-0-0-3@ictp.it
DESCRIPTION:Speakers: HOOSE\, C. (Karlsruhe Institute of Technology\, Germ
 any)\n//indico.ictp.it/event/7614/session/0/contribution/3
LOCATION:ICTP First week: AGH (Kastler Lecture Hall) - Second week: former
  SISSA building\, Main Lecture Hall
URL://indico.ictp.it/event/7614/session/0/contribution/3
END:VEVENT
BEGIN:VEVENT
SUMMARY:Modeling of cloud microphysics: from simple concepts to sophistica
 ted parameterizations. Part I: warm-rain microphysics
DTSTART;VALUE=DATE-TIME:20160627T134500Z
DTEND;VALUE=DATE-TIME:20160627T153000Z
DTSTAMP;VALUE=DATE-TIME:20240317T184828Z
UID:indico-contribution-0-0-4@ictp.it
DESCRIPTION:Speakers: GRABOWSKI\, W. (NCAR\, Boulder\, USA)\n//indico.ictp
 .it/event/7614/session/0/contribution/4
LOCATION:ICTP First week: AGH (Kastler Lecture Hall) - Second week: former
  SISSA building\, Main Lecture Hall
URL://indico.ictp.it/event/7614/session/0/contribution/4
END:VEVENT
END:VCALENDAR
