BEGIN:VCALENDAR
VERSION:2.0
PRODID:-//CERN//INDICO//EN
BEGIN:VEVENT
SUMMARY:Atmospheric aerosols\, cloud microphysics\, and climate
DTSTART;VALUE=DATE-TIME:20160629T070000Z
DTEND;VALUE=DATE-TIME:20160629T081500Z
DTSTAMP;VALUE=DATE-TIME:20240317T182329Z
UID:indico-contribution-2-0-9@ictp.it
DESCRIPTION:Speakers: GRABOWSKI\, W. (NCAR\, Boulder\, USA)\n//indico.ictp
 .it/event/7614/session/2/contribution/9
LOCATION:ICTP First week: AGH (Kastler Lecture Hall) - Second week: former
  SISSA building\, Main Lecture Hall
URL://indico.ictp.it/event/7614/session/2/contribution/9
END:VEVENT
BEGIN:VEVENT
SUMMARY:Introduction to aerosol observations and assimilation products
DTSTART;VALUE=DATE-TIME:20160629T084500Z
DTEND;VALUE=DATE-TIME:20160629T103000Z
DTSTAMP;VALUE=DATE-TIME:20240317T182329Z
UID:indico-contribution-2-0-10@ictp.it
DESCRIPTION:Speakers: F. SOLMON\, A. TOMPKINS (ICTP\, Trieste\, Italy)\n//
 indico.ictp.it/event/7614/session/2/contribution/10
LOCATION:ICTP First week: AGH (Kastler Lecture Hall) - Second week: former
  SISSA building\, Main Lecture Hall
URL://indico.ictp.it/event/7614/session/2/contribution/10
END:VEVENT
BEGIN:VEVENT
SUMMARY:Lab II
DTSTART;VALUE=DATE-TIME:20160629T120000Z
DTEND;VALUE=DATE-TIME:20160629T130000Z
DTSTAMP;VALUE=DATE-TIME:20240317T182329Z
UID:indico-contribution-2-0-11@ictp.it
DESCRIPTION:Speakers: W. GRABOWSKI (NCAR\, Boulder\, USA)\n//indico.ictp.i
 t/event/7614/session/2/contribution/11
LOCATION:ICTP First week: AGH (Kastler Lecture Hall) - Second week: former
  SISSA building\, Main Lecture Hall
URL://indico.ictp.it/event/7614/session/2/contribution/11
END:VEVENT
BEGIN:VEVENT
SUMMARY:2015 ICTP Prize Ceremony
DTSTART;VALUE=DATE-TIME:20160629T133000Z
DTEND;VALUE=DATE-TIME:20160629T153000Z
DTSTAMP;VALUE=DATE-TIME:20240317T182329Z
UID:indico-contribution-2-0-12@ictp.it
DESCRIPTION:Speakers: . ()\n//indico.ictp.it/event/7614/session/2/contribu
 tion/12
LOCATION:ICTP First week: AGH (Kastler Lecture Hall) - Second week: former
  SISSA building\, Main Lecture Hall
URL://indico.ictp.it/event/7614/session/2/contribution/12
END:VEVENT
END:VCALENDAR
