BEGIN:VCALENDAR
VERSION:2.0
PRODID:-//CERN//INDICO//EN
BEGIN:VEVENT
SUMMARY:WELCOME ADDRESS
DTSTART;VALUE=DATE-TIME:20160502T064500Z
DTEND;VALUE=DATE-TIME:20160502T070000Z
DTSTAMP;VALUE=DATE-TIME:20240318T202857Z
UID:indico-contribution-404@ictp.it
DESCRIPTION:Speakers: \n//indico.ictp.it/event/7625/session/139/contributi
 on/404
LOCATION:ICTP Adriatico Guest House - Kastler Lecture Hall
URL://indico.ictp.it/event/7625/session/139/contribution/404
END:VEVENT
END:VCALENDAR
