BEGIN:VCALENDAR
VERSION:2.0
PRODID:-//CERN//INDICO//EN
BEGIN:VEVENT
SUMMARY:Star formation and high energy neutrinos at IceCube: a correlation
 ? (20' talk + 10' discussion)
DTSTART;VALUE=DATE-TIME:20160503T153000Z
DTEND;VALUE=DATE-TIME:20160503T160000Z
DTSTAMP;VALUE=DATE-TIME:20240318T204542Z
UID:indico-contribution-426@ictp.it
DESCRIPTION:Speakers: CECILIA LUNARDINI (Arizona State University\, USA)\n
 //indico.ictp.it/event/7625/session/146/contribution/426
LOCATION:ICTP Adriatico Guest House - Kastler Lecture Hall
URL://indico.ictp.it/event/7625/session/146/contribution/426
END:VEVENT
END:VCALENDAR
