BEGIN:VCALENDAR
VERSION:2.0
PRODID:-//CERN//INDICO//EN
BEGIN:VEVENT
SUMMARY:AGN emission models 1
DTSTART;VALUE=DATE-TIME:20160504T070000Z
DTEND;VALUE=DATE-TIME:20160504T074500Z
DTSTAMP;VALUE=DATE-TIME:20240318T200447Z
UID:indico-contribution-427@ictp.it
DESCRIPTION:Speakers: MARKUS BOETTCHER (North-West University\, South Afri
 ca)\n//indico.ictp.it/event/7625/session/147/contribution/427
LOCATION:ICTP Adriatico Guest House - Kastler Lecture Hall
URL://indico.ictp.it/event/7625/session/147/contribution/427
END:VEVENT
END:VCALENDAR
