BEGIN:VCALENDAR
VERSION:2.0
PRODID:-//CERN//INDICO//EN
BEGIN:VEVENT
SUMMARY:Heavy dark matter - UHECR signatures
DTSTART;VALUE=DATE-TIME:20160505T130000Z
DTEND;VALUE=DATE-TIME:20160505T133000Z
DTSTAMP;VALUE=DATE-TIME:20240318T204756Z
UID:indico-contribution-439@ictp.it
DESCRIPTION:Speakers: ROBERTO ALOISIO (INAF Acetri Astrophysical Observato
 ry\, Florence)\n//indico.ictp.it/event/7625/session/152/contribution/439
LOCATION:ICTP Adriatico Guest House - Kastler Lecture Hall
URL://indico.ictp.it/event/7625/session/152/contribution/439
END:VEVENT
END:VCALENDAR
