BEGIN:VCALENDAR
VERSION:2.0
PRODID:-//CERN//INDICO//EN
BEGIN:VEVENT
SUMMARY:Counterparts to single neutrinos
DTSTART;VALUE=DATE-TIME:20160506T073000Z
DTEND;VALUE=DATE-TIME:20160506T080000Z
DTSTAMP;VALUE=DATE-TIME:20240318T193202Z
UID:indico-contribution-450@ictp.it
DESCRIPTION:Speakers: MATTHIAS KADLER (Wurzburg University\, Germany)\n//i
 ndico.ictp.it/event/7625/session/154/contribution/450
LOCATION:ICTP Adriatico Guest House - Kastler Lecture Hall
URL://indico.ictp.it/event/7625/session/154/contribution/450
END:VEVENT
END:VCALENDAR
