BEGIN:VCALENDAR
VERSION:2.0
PRODID:-//CERN//INDICO//EN
BEGIN:VEVENT
SUMMARY:Multi-messenger source models: neutrinos-UHECR connections
DTSTART;VALUE=DATE-TIME:20160506T094500Z
DTEND;VALUE=DATE-TIME:20160506T103000Z
DTSTAMP;VALUE=DATE-TIME:20240318T200632Z
UID:indico-contribution-453@ictp.it
DESCRIPTION:Speakers: MAURICIO BUSTAMANTE (Ohio State University\, USA)\n/
 /indico.ictp.it/event/7625/session/155/contribution/453
LOCATION:ICTP Adriatico Guest House - Kastler Lecture Hall
URL://indico.ictp.it/event/7625/session/155/contribution/453
END:VEVENT
END:VCALENDAR
