BEGIN:VCALENDAR
VERSION:2.0
PRODID:-//CERN//INDICO//EN
BEGIN:VEVENT
SUMMARY:Gamma rays: Cross correlations with galaxy catalogs
DTSTART;VALUE=DATE-TIME:20160502T123000Z
DTEND;VALUE=DATE-TIME:20160502T130000Z
DTSTAMP;VALUE=DATE-TIME:20240318T200005Z
UID:indico-contribution-141-0-409@ictp.it
DESCRIPTION:Speakers: ALESSANDRO CUOCO (RWTH Aachen University\, Germany)\
 n//indico.ictp.it/event/7625/session/141/contribution/409
LOCATION:ICTP Adriatico Guest House - Kastler Lecture Hall
URL://indico.ictp.it/event/7625/session/141/contribution/409
END:VEVENT
BEGIN:VEVENT
SUMMARY:Decomposing the Extragalactic Gamma Ray Background using the Non-P
 oissonian Template Fit
DTSTART;VALUE=DATE-TIME:20160502T130000Z
DTEND;VALUE=DATE-TIME:20160502T133000Z
DTSTAMP;VALUE=DATE-TIME:20240318T200005Z
UID:indico-contribution-141-0-410@ictp.it
DESCRIPTION:Speakers: BEN SAFDI (MIT\, USA)\n//indico.ictp.it/event/7625/s
 ession/141/contribution/410
LOCATION:ICTP Adriatico Guest House - Kastler Lecture Hall
URL://indico.ictp.it/event/7625/session/141/contribution/410
END:VEVENT
BEGIN:VEVENT
SUMMARY:Gamma rays: Angular anisotropies
DTSTART;VALUE=DATE-TIME:20160502T133000Z
DTEND;VALUE=DATE-TIME:20160502T140000Z
DTSTAMP;VALUE=DATE-TIME:20240318T200005Z
UID:indico-contribution-141-0-411@ictp.it
DESCRIPTION:Speakers: MATTIA FORNASA (GRAPPA Institute\,  University of Am
 sterdam)\n//indico.ictp.it/event/7625/session/141/contribution/411
LOCATION:ICTP Adriatico Guest House - Kastler Lecture Hall
URL://indico.ictp.it/event/7625/session/141/contribution/411
END:VEVENT
END:VCALENDAR
