BEGIN:VCALENDAR
VERSION:2.0
PRODID:-//CERN//INDICO//EN
BEGIN:VEVENT
SUMMARY:Gamma-ray detections of star forming galaxies
DTSTART;VALUE=DATE-TIME:20160503T123000Z
DTEND;VALUE=DATE-TIME:20160503T130000Z
DTSTAMP;VALUE=DATE-TIME:20240318T192351Z
UID:indico-contribution-145-0-419@ictp.it
DESCRIPTION:Speakers: KEITH BECHTOL (University of Wisconsin\, USA)\n//ind
 ico.ictp.it/event/7625/session/145/contribution/419
LOCATION:ICTP Adriatico Guest House - Kastler Lecture Hall
URL://indico.ictp.it/event/7625/session/145/contribution/419
END:VEVENT
BEGIN:VEVENT
SUMMARY:Fermi LAT point source population studies
DTSTART;VALUE=DATE-TIME:20160503T130000Z
DTEND;VALUE=DATE-TIME:20160503T133000Z
DTSTAMP;VALUE=DATE-TIME:20240318T192351Z
UID:indico-contribution-145-0-420@ictp.it
DESCRIPTION:Speakers: MATTIA DI MAURO (KIPAC\, Stanford University\, USA)\
 n//indico.ictp.it/event/7625/session/145/contribution/420
LOCATION:ICTP Adriatico Guest House - Kastler Lecture Hall
URL://indico.ictp.it/event/7625/session/145/contribution/420
END:VEVENT
BEGIN:VEVENT
SUMMARY:Neutrino-gamma ray connection
DTSTART;VALUE=DATE-TIME:20160503T133000Z
DTEND;VALUE=DATE-TIME:20160503T140000Z
DTSTAMP;VALUE=DATE-TIME:20240318T192351Z
UID:indico-contribution-145-0-421@ictp.it
DESCRIPTION:Speakers: SHIN'ICHIRO ANDO (GRAPPA Institute\,  University of 
 Amsterdam)\n//indico.ictp.it/event/7625/session/145/contribution/421
LOCATION:ICTP Adriatico Guest House - Kastler Lecture Hall
URL://indico.ictp.it/event/7625/session/145/contribution/421
END:VEVENT
END:VCALENDAR
