BEGIN:VCALENDAR
VERSION:2.0
PRODID:-//CERN//INDICO//EN
BEGIN:VEVENT
SUMMARY:DM clustering 1: Stellar vs AGN feedbacks
DTSTART;VALUE=DATE-TIME:20160504T123000Z
DTEND;VALUE=DATE-TIME:20160504T131500Z
DTSTAMP;VALUE=DATE-TIME:20240318T193712Z
UID:indico-contribution-149-0-431@ictp.it
DESCRIPTION:Speakers: TOM THEUNS (Institute for Computational Cosmology\, 
 Durham\, UK)\n//indico.ictp.it/event/7625/session/149/contribution/431
LOCATION:ICTP Adriatico Guest House - Kastler Lecture Hall
URL://indico.ictp.it/event/7625/session/149/contribution/431
END:VEVENT
BEGIN:VEVENT
SUMMARY:Dark matter properties and their impact on structure formation
DTSTART;VALUE=DATE-TIME:20160504T131500Z
DTEND;VALUE=DATE-TIME:20160504T140000Z
DTSTAMP;VALUE=DATE-TIME:20240318T193712Z
UID:indico-contribution-149-0-432@ictp.it
DESCRIPTION:Speakers: OLIVER HAHN (Observatoire de la Cote d'Azur\, France
 )\n//indico.ictp.it/event/7625/session/149/contribution/432
LOCATION:ICTP Adriatico Guest House - Kastler Lecture Hall
URL://indico.ictp.it/event/7625/session/149/contribution/432
END:VEVENT
END:VCALENDAR
