BEGIN:VCALENDAR
VERSION:2.0
PRODID:-//CERN//INDICO//EN
BEGIN:VEVENT
SUMMARY:Status of the CTA Observatory
DTSTART;VALUE=DATE-TIME:20160505T070000Z
DTEND;VALUE=DATE-TIME:20160505T074500Z
DTSTAMP;VALUE=DATE-TIME:20240318T205944Z
UID:indico-contribution-150-0-433@ictp.it
DESCRIPTION:Speakers: DAVID SANCHEZ (LAPP\, France)\n//indico.ictp.it/even
 t/7625/session/150/contribution/433
LOCATION:ICTP Adriatico Guest House - Kastler Lecture Hall
URL://indico.ictp.it/event/7625/session/150/contribution/433
END:VEVENT
BEGIN:VEVENT
SUMMARY:Overview of the results from HAWC
DTSTART;VALUE=DATE-TIME:20160505T074500Z
DTEND;VALUE=DATE-TIME:20160505T083000Z
DTSTAMP;VALUE=DATE-TIME:20240318T205944Z
UID:indico-contribution-150-0-434@ictp.it
DESCRIPTION:Speakers: MIGUEL MOSTAFA (Penn State University\, USA)\n//indi
 co.ictp.it/event/7625/session/150/contribution/434
LOCATION:ICTP Adriatico Guest House - Kastler Lecture Hall
URL://indico.ictp.it/event/7625/session/150/contribution/434
END:VEVENT
END:VCALENDAR
