BEGIN:VCALENDAR
VERSION:2.0
PRODID:-//CERN//INDICO//EN
BEGIN:VEVENT
SUMMARY:Quantization of BMS3 orbits: a perturbative approach
DTSTART;VALUE=DATE-TIME:20160323T133000Z
DTEND;VALUE=DATE-TIME:20160323T140000Z
DTSTAMP;VALUE=DATE-TIME:20240319T121758Z
UID:indico-contribution-109@ictp.it
DESCRIPTION:Speakers: ALAN GARBARZ (IFIBA-CONICET\, Buenos Aires)\n//indic
 o.ictp.it/event/7629/session/14/contribution/109
LOCATION:ICTP Leonardo Building - Budinich Lecture Hall
URL://indico.ictp.it/event/7629/session/14/contribution/109
END:VEVENT
END:VCALENDAR
