BEGIN:VCALENDAR
VERSION:2.0
PRODID:-//CERN//INDICO//EN
BEGIN:VEVENT
SUMMARY:DISCUSSION SESSION
DTSTART;VALUE=DATE-TIME:20160323T150000Z
DTEND;VALUE=DATE-TIME:20160323T160000Z
DTSTAMP;VALUE=DATE-TIME:20240319T123603Z
UID:indico-contribution-111@ictp.it
DESCRIPTION:Speakers: \n//indico.ictp.it/event/7629/session/14/contributio
 n/111
LOCATION:ICTP Leonardo Building - Budinich Lecture Hall
URL://indico.ictp.it/event/7629/session/14/contribution/111
END:VEVENT
END:VCALENDAR
