BEGIN:VCALENDAR
VERSION:2.0
PRODID:-//CERN//INDICO//EN
BEGIN:VEVENT
SUMMARY:Higher spins in 3D: going from AdS to flat
DTSTART;VALUE=DATE-TIME:20160324T103000Z
DTEND;VALUE=DATE-TIME:20160324T110000Z
DTSTAMP;VALUE=DATE-TIME:20240319T114958Z
UID:indico-contribution-114@ictp.it
DESCRIPTION:Speakers: ANDREA CAMPOLEONI (Université Libre de Bruxelles)\n
 //indico.ictp.it/event/7629/session/15/contribution/114
LOCATION:ICTP Leonardo Building - Budinich Lecture Hall
URL://indico.ictp.it/event/7629/session/15/contribution/114
END:VEVENT
END:VCALENDAR
