BEGIN:VCALENDAR
VERSION:2.0
PRODID:-//CERN//INDICO//EN
BEGIN:VEVENT
SUMMARY:Curiosities with Three-dimensional Non-relativistic Gravity
DTSTART;VALUE=DATE-TIME:20160321T090000Z
DTEND;VALUE=DATE-TIME:20160321T100000Z
DTSTAMP;VALUE=DATE-TIME:20240319T124006Z
UID:indico-contribution-91@ictp.it
DESCRIPTION:Speakers: ERIC BERGSHOEFF (Groningen Univeristy)\n//indico.ict
 p.it/event/7629/session/12/contribution/91
LOCATION:ICTP Leonardo Building - Budinich Lecture Hall
URL://indico.ictp.it/event/7629/session/12/contribution/91
END:VEVENT
END:VCALENDAR
