BEGIN:VCALENDAR
VERSION:2.0
PRODID:-//CERN//INDICO//EN
BEGIN:VEVENT
SUMMARY:Logarithms in AdS3/CFT2
DTSTART;VALUE=DATE-TIME:20160322T080000Z
DTEND;VALUE=DATE-TIME:20160322T090000Z
DTSTAMP;VALUE=DATE-TIME:20240319T115246Z
UID:indico-contribution-13-0-97@ictp.it
DESCRIPTION:Speakers: GASTON GIRIBET (Brussels & Buenos Aires Univeristy)\
 n//indico.ictp.it/event/7629/session/13/contribution/97
LOCATION:ICTP Leonardo Building - Budinich Lecture Hall
URL://indico.ictp.it/event/7629/session/13/contribution/97
END:VEVENT
BEGIN:VEVENT
SUMMARY:Supertranslations and superrotations
DTSTART;VALUE=DATE-TIME:20160322T090000Z
DTEND;VALUE=DATE-TIME:20160322T100000Z
DTSTAMP;VALUE=DATE-TIME:20240319T115246Z
UID:indico-contribution-13-0-98@ictp.it
DESCRIPTION:Speakers: GEOFFREY COMPÈRE (Université Libre de Bruxelles)\n
 //indico.ictp.it/event/7629/session/13/contribution/98
LOCATION:ICTP Leonardo Building - Budinich Lecture Hall
URL://indico.ictp.it/event/7629/session/13/contribution/98
END:VEVENT
BEGIN:VEVENT
SUMMARY:Scrambling of locally perturbed thermal states
DTSTART;VALUE=DATE-TIME:20160322T103000Z
DTEND;VALUE=DATE-TIME:20160322T110000Z
DTSTAMP;VALUE=DATE-TIME:20240319T115246Z
UID:indico-contribution-13-0-99@ictp.it
DESCRIPTION:Speakers: JOAN SIMON (Edinburgh Univeristy)\n//indico.ictp.it/
 event/7629/session/13/contribution/99
LOCATION:ICTP Leonardo Building - Budinich Lecture Hall
URL://indico.ictp.it/event/7629/session/13/contribution/99
END:VEVENT
BEGIN:VEVENT
SUMMARY:Solution Phase Space and Conserved Charges: A General Formulation 
 for Charges Associated with Exact Symmetries
DTSTART;VALUE=DATE-TIME:20160322T110000Z
DTEND;VALUE=DATE-TIME:20160322T113000Z
DTSTAMP;VALUE=DATE-TIME:20240319T115246Z
UID:indico-contribution-13-0-100@ictp.it
DESCRIPTION:Speakers: KAMAL HAJIAN (IPM\, Tehran)\n//indico.ictp.it/event/
 7629/session/13/contribution/100
LOCATION:ICTP Leonardo Building - Budinich Lecture Hall
URL://indico.ictp.it/event/7629/session/13/contribution/100
END:VEVENT
BEGIN:VEVENT
SUMMARY:Near-horizon symmetries and BMS
DTSTART;VALUE=DATE-TIME:20160322T130000Z
DTEND;VALUE=DATE-TIME:20160322T133000Z
DTSTAMP;VALUE=DATE-TIME:20240319T115246Z
UID:indico-contribution-13-0-101@ictp.it
DESCRIPTION:Speakers: MIGUEL PINO (Universidad de Santiago de Chile)\n//in
 dico.ictp.it/event/7629/session/13/contribution/101
LOCATION:ICTP Leonardo Building - Budinich Lecture Hall
URL://indico.ictp.it/event/7629/session/13/contribution/101
END:VEVENT
BEGIN:VEVENT
SUMMARY:Symplectic and Killing Symmetries of AdS3
DTSTART;VALUE=DATE-TIME:20160322T133000Z
DTEND;VALUE=DATE-TIME:20160322T140000Z
DTSTAMP;VALUE=DATE-TIME:20240319T115246Z
UID:indico-contribution-13-0-102@ictp.it
DESCRIPTION:Speakers: ALI SERAJ (IPM\, Tehran)\n//indico.ictp.it/event/762
 9/session/13/contribution/102
LOCATION:ICTP Leonardo Building - Budinich Lecture Hall
URL://indico.ictp.it/event/7629/session/13/contribution/102
END:VEVENT
BEGIN:VEVENT
SUMMARY:On 3d Bulk geometry of Virasoro coadjoint orbits
DTSTART;VALUE=DATE-TIME:20160322T140000Z
DTEND;VALUE=DATE-TIME:20160322T143000Z
DTSTAMP;VALUE=DATE-TIME:20240319T115246Z
UID:indico-contribution-13-0-103@ictp.it
DESCRIPTION:Speakers: HOSSEIN YAVARTANOO (ITP-CAS\, Beijing)\n//indico.ict
 p.it/event/7629/session/13/contribution/103
LOCATION:ICTP Leonardo Building - Budinich Lecture Hall
URL://indico.ictp.it/event/7629/session/13/contribution/103
END:VEVENT
BEGIN:VEVENT
SUMMARY:DISCUSSION SESSION
DTSTART;VALUE=DATE-TIME:20160322T150000Z
DTEND;VALUE=DATE-TIME:20160322T160000Z
DTSTAMP;VALUE=DATE-TIME:20240319T115246Z
UID:indico-contribution-13-0-104@ictp.it
DESCRIPTION:Speakers: \n//indico.ictp.it/event/7629/session/13/contributio
 n/104
LOCATION:ICTP Leonardo Building - Budinich Lecture Hall
URL://indico.ictp.it/event/7629/session/13/contribution/104
END:VEVENT
END:VCALENDAR
