BEGIN:VCALENDAR
VERSION:2.0
PRODID:-//CERN//INDICO//EN
BEGIN:VEVENT
SUMMARY:Reconstruction algorithms/effect of filtering
DTSTART;VALUE=DATE-TIME:20160504T080000Z
DTEND;VALUE=DATE-TIME:20160504T100000Z
DTSTAMP;VALUE=DATE-TIME:20240318T161319Z
UID:indico-contribution-11@ictp.it
DESCRIPTION:Speakers: KORTESNIEMI\, Mika ()\n//indico.ictp.it/event/7635/s
 ession/2/contribution/11
LOCATION:LB\, InfoLab Leonardo Building - Lab
URL://indico.ictp.it/event/7635/session/2/contribution/11
END:VEVENT
END:VCALENDAR
